BEGIN:VCALENDAR
VERSION:2.0
PRODID:-//Albuquerque Museum Foundation - ECPv6.15.20//NONSGML v1.0//EN
CALSCALE:GREGORIAN
METHOD:PUBLISH
X-WR-CALNAME:Albuquerque Museum Foundation
X-ORIGINAL-URL:https://albuquerquemuseumfoundation.org
X-WR-CALDESC:Events for Albuquerque Museum Foundation
REFRESH-INTERVAL;VALUE=DURATION:PT1H
X-Robots-Tag:noindex
X-PUBLISHED-TTL:PT1H
BEGIN:VTIMEZONE
TZID:America/Denver
BEGIN:DAYLIGHT
TZOFFSETFROM:-0700
TZOFFSETTO:-0600
TZNAME:MDT
DTSTART:20240310T090000
END:DAYLIGHT
BEGIN:STANDARD
TZOFFSETFROM:-0600
TZOFFSETTO:-0700
TZNAME:MST
DTSTART:20241103T080000
END:STANDARD
BEGIN:DAYLIGHT
TZOFFSETFROM:-0700
TZOFFSETTO:-0600
TZNAME:MDT
DTSTART:20250309T090000
END:DAYLIGHT
BEGIN:STANDARD
TZOFFSETFROM:-0600
TZOFFSETTO:-0700
TZNAME:MST
DTSTART:20251102T080000
END:STANDARD
BEGIN:DAYLIGHT
TZOFFSETFROM:-0700
TZOFFSETTO:-0600
TZNAME:MDT
DTSTART:20260308T090000
END:DAYLIGHT
BEGIN:STANDARD
TZOFFSETFROM:-0600
TZOFFSETTO:-0700
TZNAME:MST
DTSTART:20261101T080000
END:STANDARD
END:VTIMEZONE
BEGIN:VEVENT
DTSTART;VALUE=DATE:20250429
DTEND;VALUE=DATE:20250504
DTSTAMP:20260422T005140
CREATED:20250320T220048Z
LAST-MODIFIED:20250414T191630Z
UID:7088-1745884800-1746316799@albuquerquemuseumfoundation.org
SUMMARY:Discover Treasured Museums of America
DESCRIPTION:***THIS TRIP IS SOLD OUT***\nTo be added to a waiting list\, contact Elaine Richardson. \nThe Albuquerque Museum Foundation invites you to DISCOVER TREASURED MUSEUMS OF AMERICA. For five jam-packed days\, Albuquerque Museum Director Andrew Connors will personally guide you though top cultural destinations in three states! \nFirst stop is Kansas City\, Missouri where you will experience a guided tour of the Nelson Atkins Museum of Art\, which maintains a collection of more than 35\,000 works of art. Up next\, the Nerman Museum of Contemporary Art\, housing one of the top internationally acclaimed collections of emerging and established artists. \nNext stop is Bentonville\, Arkansas. Spend the day and enjoy a guided tour of the collections of Crystal Bridges Museum of American Art. The museum\, founded by Alice Walton and designed by Moshe Safdie\, takes its name from a nearby natural spring and bridge construction incorporated in the building. Crystal Bridges permanent collection spans ﬁve centuries of American masterworks ranging from colonial era to the current day. Then\, explore the gardens and the famed Frank Lloyd Wright Bachman-Wilson House — a prime example of Usonian architecture. \nFinal stop is Tulsa\, Oklahoma. Tour the Philbrook Museum of Art and the expansive formal gardens. The museum showcases art from all over the world in the historic home of Waite and Genevieve Phillips. Your final museum stop will be The Gilcrease Museum\, which houses the world’s largest collection of art and artifacts of the American West\, including an unparalleled collection of Native American art. \nMark your calendars for April 29-May 3\, 2025. \nThis remarkable itinerary offers one-on-one connections with experts and includes many unique opportunities. \nFor ONE fee (hotels\, fees\, tours\, and tips are included)\, you and fellow art enthusiasts will travel together\, stay in beautiful hotels\, enjoy top-rated cuisine\, and explore artistic marvels on expert-led tours. The travel groups are kept small\, with hosts dedicated to the art of fine service\, to promote a positive trip experience for all travelers. \nThe trip is organized by our partner ALL WORLD TRAVEL. \n \n\n\n\nThe Travel Program is a fundraising effort by the Albuquerque Museum Foundation. A portion of the proceeds goes to fulfill our mission to raise funds in support of the Albuquerque Museum’s collections\, exhibitions\, and education programs. The tax-deductible amount for the Treasured Museums trip is $250.
URL:https://albuquerquemuseumfoundation.org/event/discover-treasured-museums-of-america/
CATEGORIES:Travel Program
ATTACH;FMTTYPE=image/png:https://albuquerquemuseumfoundation.org/wp-content/uploads/2025/03/Crystal-Bridges.png
ORGANIZER;CN="Albuquerque Museum Foundation":MAILTO:info@albuquerquemuseumfoundation.org
END:VEVENT
END:VCALENDAR