BEGIN:VCALENDAR
VERSION:2.0
PRODID:-//Albuquerque Museum Foundation - ECPv6.15.20//NONSGML v1.0//EN
CALSCALE:GREGORIAN
METHOD:PUBLISH
X-ORIGINAL-URL:https://albuquerquemuseumfoundation.org
X-WR-CALDESC:Events for Albuquerque Museum Foundation
REFRESH-INTERVAL;VALUE=DURATION:PT1H
X-Robots-Tag:noindex
X-PUBLISHED-TTL:PT1H
BEGIN:VTIMEZONE
TZID:America/Denver
BEGIN:DAYLIGHT
TZOFFSETFROM:-0700
TZOFFSETTO:-0600
TZNAME:MDT
DTSTART:20250309T090000
END:DAYLIGHT
BEGIN:STANDARD
TZOFFSETFROM:-0600
TZOFFSETTO:-0700
TZNAME:MST
DTSTART:20251102T080000
END:STANDARD
BEGIN:DAYLIGHT
TZOFFSETFROM:-0700
TZOFFSETTO:-0600
TZNAME:MDT
DTSTART:20260308T090000
END:DAYLIGHT
BEGIN:STANDARD
TZOFFSETFROM:-0600
TZOFFSETTO:-0700
TZNAME:MST
DTSTART:20261101T080000
END:STANDARD
BEGIN:DAYLIGHT
TZOFFSETFROM:-0700
TZOFFSETTO:-0600
TZNAME:MDT
DTSTART:20270314T090000
END:DAYLIGHT
BEGIN:STANDARD
TZOFFSETFROM:-0600
TZOFFSETTO:-0700
TZNAME:MST
DTSTART:20271107T080000
END:STANDARD
END:VTIMEZONE
BEGIN:VEVENT
DTSTART;VALUE=DATE:20260426
DTEND;VALUE=DATE:20260508
DTSTAMP:20260421T071109
CREATED:20250916T214939Z
LAST-MODIFIED:20260408T171357Z
UID:7656-1777161600-1778198399@albuquerquemuseumfoundation.org
SUMMARY:An Andalusian Adventure
DESCRIPTION:The Albuquerque Museum Foundation invites you to an Andalusian Adventure! \nMark your calendars for April 26-May 7\, 2026. \nStart your trip in Madrid\, a perfect introduction to the Iberian Peninsula. Spain’s capital city boasts world famous museums\, delectable gastronomy\, rich history\, and beautiful architecture that traverses many centuries and styles. Experience the Prado like never before with a VIP tour that affords you the unique opportunity to get up close and personal with many of the most famous paintings in Spanish history. \nVisit nearby Toledo\, another gem and former capital city. This World Heritage Site features synagogues\, mosques\, and one of\nthe world’s most prominent Catholic cathedrals. Andalucia embodies the spirit of Spain: bullfights\, flamenco\, and many of the\nIberian Peninsula’s most beautiful and historical monuments. \nCórdoba claims four World Heritage Sites including the Mezquita\, a mosque/cathedral\, that is a\nprevailing symbol of the Moorish and Christian cultures that shaped Andalucia. \nSevilla is considered the capital of Moorish Spain and is world famous for flamenco music and dance. It was recently voted the most beautiful city in Spain. One of the greatest surviving Moorish relics is Granada’s Alhambra with its pristine and gorgeous gardens named the Generalife. You’ll visit these cities and more on this Andalusian adventure\, while experiencing unique and\nimmersive activities along the way. \n*To view a brochure\, click here. \n  \nThis trip is organized by our partner ALL WORLD TRAVEL.
URL:https://albuquerquemuseumfoundation.org/event/an-andalusian-adventure/
LOCATION:NM
CATEGORIES:Travel Program
ATTACH;FMTTYPE=image/png:https://albuquerquemuseumfoundation.org/wp-content/uploads/2025/09/Screenshot-2025-09-16-153244.png
END:VEVENT
BEGIN:VEVENT
DTSTART;TZID=America/Denver:20260530T180000
DTEND;TZID=America/Denver:20260530T220000
DTSTAMP:20260421T071109
CREATED:20250902T154407Z
LAST-MODIFIED:20260416T201543Z
UID:7531-1780164000-1780178400@albuquerquemuseumfoundation.org
SUMMARY:¡Viva El Museo!
DESCRIPTION:  \nHit the road with us for a night of retro charm\, roadside delights\, and live entertainment! TICKETS AVAILABLE NOW! \nInterested in sponsoring this event? Click here!
URL:https://albuquerquemuseumfoundation.org/event/viva-el-museo/
LOCATION:Albuquerque Museum\, 2000 Mountain Road NW\, Albuquerque\, NM\, 87104\, United States
CATEGORIES:Fundraiser
ATTACH;FMTTYPE=image/png:https://albuquerquemuseumfoundation.org/wp-content/uploads/2026/01/Logo-transparent-scaled.png
ORGANIZER;CN="Albuquerque Museum Foundation":MAILTO:info@albuquerquemuseumfoundation.org
END:VEVENT
END:VCALENDAR